BEGIN:VCALENDAR
VERSION:2.0
PRODID:-//Abundant Life Ministries - ECPv6.15.20//NONSGML v1.0//EN
CALSCALE:GREGORIAN
METHOD:PUBLISH
X-WR-CALNAME:Abundant Life Ministries
X-ORIGINAL-URL:https://abundantliferaeford.com
X-WR-CALDESC:Events for Abundant Life Ministries
REFRESH-INTERVAL;VALUE=DURATION:PT1H
X-Robots-Tag:noindex
X-PUBLISHED-TTL:PT1H
BEGIN:VTIMEZONE
TZID:UTC
BEGIN:STANDARD
TZOFFSETFROM:+0000
TZOFFSETTO:+0000
TZNAME:UTC
DTSTART:20220101T000000
END:STANDARD
END:VTIMEZONE
BEGIN:VEVENT
DTSTART;TZID=UTC:20230611T100000
DTEND;TZID=UTC:20230611T140000
DTSTAMP:20260423T182023
CREATED:20230503T230654Z
LAST-MODIFIED:20230503T230846Z
UID:1775-1686477600-1686492000@abundantliferaeford.com
SUMMARY:Worship Service at Ascend Church Raleigh
DESCRIPTION:Join us as we travel with Bishop Parker to Raleigh for an amazing fellowship service. \nBus transportation will be available. Please sign up in the foyer of the church. Seats are limited: first come\, first serve.
URL:https://abundantliferaeford.com/event/worship-service-at-ascend-church-raleigh/
LOCATION:Ascend Worship Church\, 231 East Johnson Street Suite F\, Cary\, NC\, 27513\, United States
END:VEVENT
BEGIN:VEVENT
DTSTART;VALUE=DATE:20230610
DTEND;VALUE=DATE:20230611
DTSTAMP:20260423T182023
CREATED:20230503T225905Z
LAST-MODIFIED:20230503T225905Z
UID:1773-1686355200-1686441599@abundantliferaeford.com
SUMMARY:Men's Retreat
DESCRIPTION:One day only. Contact Elder-Elect Robinson for more information.
URL:https://abundantliferaeford.com/event/mens-retreat/
END:VEVENT
BEGIN:VEVENT
DTSTART;TZID=UTC:20230604T110000
DTEND;TZID=UTC:20230604T130000
DTSTAMP:20260423T182023
CREATED:20230415T223820Z
LAST-MODIFIED:20230415T223820Z
UID:1751-1685876400-1685883600@abundantliferaeford.com
SUMMARY:Baccalaureate Service
DESCRIPTION:Join us for our annual baccalaureate service as we celebrate our 2023 graduates. Information forms for all graduates can be obtained from the business office.
URL:https://abundantliferaeford.com/event/baccalaureate-service/
LOCATION:Abundant Life Ministries\, 504 W Sixth Ave\, Raeford\, NC\, 28376\, United States
END:VEVENT
BEGIN:VEVENT
DTSTART;TZID=UTC:20230526T190000
DTEND;TZID=UTC:20230526T210000
DTSTAMP:20260423T182023
CREATED:20230503T224743Z
LAST-MODIFIED:20230503T224743Z
UID:1767-1685127600-1685134800@abundantliferaeford.com
SUMMARY:Fire Service with Dr Parsons
DESCRIPTION:
URL:https://abundantliferaeford.com/event/fire-service-with-dr-parsons/
LOCATION:Abundant Life Ministries\, 504 W Sixth Ave\, Raeford\, NC\, 28376\, United States
END:VEVENT
BEGIN:VEVENT
DTSTART;TZID=UTC:20230521T110000
DTEND;TZID=UTC:20230521T130000
DTSTAMP:20260423T182023
CREATED:20230415T224820Z
LAST-MODIFIED:20230415T224820Z
UID:1756-1684666800-1684674000@abundantliferaeford.com
SUMMARY:Pastor NaJean at Word of Life Temple
DESCRIPTION:Join us as we fellowship with Word of Life Temple for their 11 am worship service.
URL:https://abundantliferaeford.com/event/pastor-najean-at-word-of-life-temple/
LOCATION:Word of Life Temple\, 1988 Fayetteville Rd\, Raeford\, NC\, 28376\, United States
END:VEVENT
BEGIN:VEVENT
DTSTART;TZID=UTC:20230510T190000
DTEND;TZID=UTC:20230510T210000
DTSTAMP:20260423T182023
CREATED:20230503T225309Z
LAST-MODIFIED:20230503T225309Z
UID:1769-1683745200-1683752400@abundantliferaeford.com
SUMMARY:Raeford Community Revival
DESCRIPTION:
URL:https://abundantliferaeford.com/event/raeford-community-revival/
LOCATION:First Baptist Church\, 333 N Main Street\, Raeford\, NC\, 28376\, United States
END:VEVENT
BEGIN:VEVENT
DTSTART;TZID=UTC:20230415T140000
DTEND;TZID=UTC:20230415T150000
DTSTAMP:20260423T182023
CREATED:20230415T224023Z
LAST-MODIFIED:20230415T224023Z
UID:1754-1681567200-1681570800@abundantliferaeford.com
SUMMARY:Women's Ministry Meeting
DESCRIPTION:
URL:https://abundantliferaeford.com/event/womens-ministry-meeting/
LOCATION:Abundant Life Ministries\, 504 W Sixth Ave\, Raeford\, NC\, 28376\, United States
END:VEVENT
BEGIN:VEVENT
DTSTART;TZID=UTC:20230415T090000
DTEND;TZID=UTC:20230415T140000
DTSTAMP:20260423T182023
CREATED:20230415T223915Z
LAST-MODIFIED:20230415T223915Z
UID:1747-1681549200-1681567200@abundantliferaeford.com
SUMMARY:Men's Church Clean-up
DESCRIPTION:
URL:https://abundantliferaeford.com/event/mens-church-clean-up/
LOCATION:Abundant Life Ministries\, 504 W Sixth Ave\, Raeford\, NC\, 28376\, United States
END:VEVENT
END:VCALENDAR